BEGIN:VCALENDAR
VERSION:2.0
PRODID:-//NEO Educational Institute
CALSCALE:GREGORIAN
METHOD:PUBLISH
X-WR-CALNAME:NEO Educational Institute
X-ORIGINAL-URL:https://www.neoedu.lk/event/neo-blood-donation-camp-2020/
X-WR-CALDESC:Neo Blood Donation Camp 2020
BEGIN:VEVENT
DTSTART:20200625T080000
DTEND:20200625T180000
SUMMARY:Neo Blood Donation Camp 2020
DESCRIPTION:අත්‍යාවශ්‍යම මොහොතක පිහිටට එක්වෙමු. (කරුණාකර මිතුරන් හා හිතවතුන් දැනුවත් කරන්න)
LOCATION:Neo Educational Institute, No 296-B, New Hospital Road, Galaha
END:VEVENT
END:VCALENDAR
