BEGIN:VCALENDAR
VERSION:2.0
PRODID:-//NEO Educational Institute
CALSCALE:GREGORIAN
METHOD:PUBLISH
X-WR-CALNAME:NEO Educational Institute
X-ORIGINAL-URL:https://www.neoedu.lk/event/learning-from-nature-native-peoples/
X-WR-CALDESC:NEO International School, Grade 1 annual trip 2019
BEGIN:VEVENT
DTSTART:20190819T000000
DTEND:20190819T000000
SUMMARY:NEO International School, Grade 1 annual trip 2019
DESCRIPTION:NEO International School, Grade 1 annual trip 2019.
LOCATION:Neo Educational Institute, No 296-B, New Hospital Road, Galaha
END:VEVENT
END:VCALENDAR
