BEGIN:VCALENDAR
VERSION:2.0
PRODID:-//NEO Educational Institute
CALSCALE:GREGORIAN
METHOD:PUBLISH
X-WR-CALNAME:NEO Educational Institute
X-ORIGINAL-URL:https://www.neoedu.lk/event/neo-%e0%b6%a0%e0%b7%92%e0%b6%ad%e0%b7%8a%e2%80%8d%e0%b6%bb-%e0%b7%84%e0%b7%8f-%e0%b6%85%e0%b6%ad%e0%b7%8a%e0%b6%9a%e0%b6%b8%e0%b7%8a-%e0%b6%b4%e0%b7%8a%e2%80%8d%e0%b6%bb%e0%b6%af%e0%b6%bb%e0%b7%8a/
X-WR-CALDESC:NEO චිත්‍ර  හා අත්කම් ප්‍රදර්ශනය 2019
BEGIN:VEVENT
DTSTART:20190601T000000
DTEND:20190601T000000
SUMMARY:NEO චිත්‍ර  හා අත්කම් ප්‍රදර්ශනය 2019
DESCRIPTION:NEO චිත්‍ර හා අත්කම් ප්‍රදර්ශනය 2019
LOCATION:Neo Educational Institute, No 296-B, New Hospital Road, Galaha
END:VEVENT
END:VCALENDAR
