BEGIN:VCALENDAR
VERSION:2.0
PRODID:-//NEO Educational Institute
CALSCALE:GREGORIAN
METHOD:PUBLISH
X-WR-CALNAME:NEO Educational Institute
X-ORIGINAL-URL:https://www.neoedu.lk/event/%e0%b6%bd%e0%b7%9d%e0%b6%9a-%e0%b7%85%e0%b6%b8%e0%b7%8f-%e0%b6%af%e0%b7%92%e0%b6%b1-%e0%b7%83%e0%b7%90%e0%b6%b8%e0%b6%bb%e0%b7%94%e0%b6%b8-2019/
X-WR-CALDESC:ලෝක ළමා දින සැමරුම 2019
BEGIN:VEVENT
DTSTART:20190901T080000
DTEND:20190901T120000
SUMMARY:ලෝක ළමා දින සැමරුම 2019
DESCRIPTION:ලෝක ළමා දින සැමරුම 2019 ඔක්තෝබර් පලවෙනි දින NEO අධ්‍යාපන ආයතනයේදී පැවැත්වේ.
LOCATION:Neo Educational Institute, No 296-B, New Hospital Road, Galaha
END:VEVENT
END:VCALENDAR
